BEGIN:VCALENDAR
VERSION:2.0
PRODID:-//Boston Endeavour Academy - ECPv6.15.17.1//NONSGML v1.0//EN
CALSCALE:GREGORIAN
METHOD:PUBLISH
X-WR-CALNAME:Boston Endeavour Academy
X-ORIGINAL-URL:https://www.bea-cit.co.uk
X-WR-CALDESC:Events for Boston Endeavour Academy
REFRESH-INTERVAL;VALUE=DURATION:PT1H
X-Robots-Tag:noindex
X-PUBLISHED-TTL:PT1H
BEGIN:VTIMEZONE
TZID:Europe/London
BEGIN:DAYLIGHT
TZOFFSETFROM:+0000
TZOFFSETTO:+0100
TZNAME:BST
DTSTART:20210328T010000
END:DAYLIGHT
BEGIN:STANDARD
TZOFFSETFROM:+0100
TZOFFSETTO:+0000
TZNAME:GMT
DTSTART:20211031T010000
END:STANDARD
BEGIN:DAYLIGHT
TZOFFSETFROM:+0000
TZOFFSETTO:+0100
TZNAME:BST
DTSTART:20220327T010000
END:DAYLIGHT
BEGIN:STANDARD
TZOFFSETFROM:+0100
TZOFFSETTO:+0000
TZNAME:GMT
DTSTART:20221030T010000
END:STANDARD
BEGIN:DAYLIGHT
TZOFFSETFROM:+0000
TZOFFSETTO:+0100
TZNAME:BST
DTSTART:20230326T010000
END:DAYLIGHT
BEGIN:STANDARD
TZOFFSETFROM:+0100
TZOFFSETTO:+0000
TZNAME:GMT
DTSTART:20231029T010000
END:STANDARD
BEGIN:DAYLIGHT
TZOFFSETFROM:+0000
TZOFFSETTO:+0100
TZNAME:BST
DTSTART:20240331T010000
END:DAYLIGHT
BEGIN:STANDARD
TZOFFSETFROM:+0100
TZOFFSETTO:+0000
TZNAME:GMT
DTSTART:20241027T010000
END:STANDARD
BEGIN:DAYLIGHT
TZOFFSETFROM:+0000
TZOFFSETTO:+0100
TZNAME:BST
DTSTART:20250330T010000
END:DAYLIGHT
BEGIN:STANDARD
TZOFFSETFROM:+0100
TZOFFSETTO:+0000
TZNAME:GMT
DTSTART:20251026T010000
END:STANDARD
END:VTIMEZONE
BEGIN:VEVENT
DTSTART;VALUE=DATE:20240308
DTEND;VALUE=DATE:20240309
DTSTAMP:20260419T232515
CREATED:20240222T111919Z
LAST-MODIFIED:20240222T111919Z
UID:4242-1709856000-1709942399@www.bea-cit.co.uk
SUMMARY:World Book Day
DESCRIPTION:BEA will be celebrating World Book Day on Friday 8th March 2024. Dressing up or bringing books into school can be a big part of the celebrations and what families particularly enjoy about World Book Day and therefore\, we invite your child to dress up\, should they wish to do so\, as their favourite character from their favourite books to celebrate the occasion. Alternatively\, please feel free to send your child to school in their pyjamas instead! \n 
URL:https://www.bea-cit.co.uk/event/world-book-day/
END:VEVENT
BEGIN:VEVENT
DTSTART;TZID=Europe/London:20240304T080000
DTEND;TZID=Europe/London:20240308T170000
DTSTAMP:20260419T232515
CREATED:20240222T111814Z
LAST-MODIFIED:20240222T111814Z
UID:4240-1709539200-1709917200@www.bea-cit.co.uk
SUMMARY:National Careers Week
DESCRIPTION:
URL:https://www.bea-cit.co.uk/event/national-careers-week/
END:VEVENT
BEGIN:VEVENT
DTSTART;VALUE=DATE:20240209
DTEND;VALUE=DATE:20240210
DTSTAMP:20260419T232515
CREATED:20231103T144815Z
LAST-MODIFIED:20231103T144815Z
UID:3722-1707436800-1707523199@www.bea-cit.co.uk
SUMMARY:End of Term 3
DESCRIPTION:
URL:https://www.bea-cit.co.uk/event/end-of-term-3-3/
END:VEVENT
BEGIN:VEVENT
DTSTART;VALUE=DATE:20240103
DTEND;VALUE=DATE:20240104
DTSTAMP:20260419T232515
CREATED:20231103T144753Z
LAST-MODIFIED:20231103T144753Z
UID:3720-1704240000-1704326399@www.bea-cit.co.uk
SUMMARY:Start of Term 3
DESCRIPTION:
URL:https://www.bea-cit.co.uk/event/start-of-term-3-2/
END:VEVENT
BEGIN:VEVENT
DTSTART;VALUE=DATE:20231220
DTEND;VALUE=DATE:20231221
DTSTAMP:20260419T232515
CREATED:20231103T144552Z
LAST-MODIFIED:20231103T144552Z
UID:3718-1703030400-1703116799@www.bea-cit.co.uk
SUMMARY:End of Term 2
DESCRIPTION:
URL:https://www.bea-cit.co.uk/event/end-of-term-2-3/
END:VEVENT
BEGIN:VEVENT
DTSTART;VALUE=DATE:20231219
DTEND;VALUE=DATE:20231220
DTSTAMP:20260419T232515
CREATED:20231201T103038Z
LAST-MODIFIED:20231201T103038Z
UID:4118-1702944000-1703030399@www.bea-cit.co.uk
SUMMARY:KS2/3 Christmas Play
DESCRIPTION:
URL:https://www.bea-cit.co.uk/event/ks2-3-christmas-play/
END:VEVENT
BEGIN:VEVENT
DTSTART;TZID=Europe/London:20231218T080000
DTEND;TZID=Europe/London:20231218T170000
DTSTAMP:20260419T232515
CREATED:20231201T103003Z
LAST-MODIFIED:20231201T103003Z
UID:4116-1702886400-1702918800@www.bea-cit.co.uk
SUMMARY:Christmas Window Display Judging Day
DESCRIPTION:
URL:https://www.bea-cit.co.uk/event/christmas-window-display-judging-day/
END:VEVENT
BEGIN:VEVENT
DTSTART;VALUE=DATE:20231215
DTEND;VALUE=DATE:20231216
DTSTAMP:20260419T232515
CREATED:20231201T102933Z
LAST-MODIFIED:20231201T102933Z
UID:4114-1702598400-1702684799@www.bea-cit.co.uk
SUMMARY:Christmas Dinner
DESCRIPTION:
URL:https://www.bea-cit.co.uk/event/christmas-dinner/
END:VEVENT
BEGIN:VEVENT
DTSTART;VALUE=DATE:20231215
DTEND;VALUE=DATE:20231216
DTSTAMP:20260419T232515
CREATED:20231201T102901Z
LAST-MODIFIED:20231201T102901Z
UID:4112-1702598400-1702684799@www.bea-cit.co.uk
SUMMARY:Santa Visiting BEA
DESCRIPTION:
URL:https://www.bea-cit.co.uk/event/santa-visiting-bea/
END:VEVENT
BEGIN:VEVENT
DTSTART;VALUE=DATE:20231215
DTEND;VALUE=DATE:20231216
DTSTAMP:20260419T232515
CREATED:20231201T102838Z
LAST-MODIFIED:20231201T102838Z
UID:4110-1702598400-1702684799@www.bea-cit.co.uk
SUMMARY:Christmas Jumper Day in aid of SOLDAS
DESCRIPTION:
URL:https://www.bea-cit.co.uk/event/christmas-jumper-day-in-aid-of-soldas/
END:VEVENT
BEGIN:VEVENT
DTSTART;VALUE=DATE:20231214
DTEND;VALUE=DATE:20231215
DTSTAMP:20260419T232515
CREATED:20231201T102808Z
LAST-MODIFIED:20231201T102808Z
UID:4108-1702512000-1702598399@www.bea-cit.co.uk
SUMMARY:Hedgehogs Blackfriars Pantomime Trip
DESCRIPTION:
URL:https://www.bea-cit.co.uk/event/hedgehogs-blackfriars-pantomime-trip/
END:VEVENT
BEGIN:VEVENT
DTSTART;VALUE=DATE:20231213
DTEND;VALUE=DATE:20231214
DTSTAMP:20260419T232515
CREATED:20231201T102520Z
LAST-MODIFIED:20231201T102520Z
UID:4106-1702425600-1702511999@www.bea-cit.co.uk
SUMMARY:Spring Wing Nativity Performance
DESCRIPTION:
URL:https://www.bea-cit.co.uk/event/spring-wing-nativity-performance/
END:VEVENT
BEGIN:VEVENT
DTSTART;VALUE=DATE:20231213
DTEND;VALUE=DATE:20231214
DTSTAMP:20260419T232515
CREATED:20231201T102433Z
LAST-MODIFIED:20231201T102433Z
UID:4104-1702425600-1702511999@www.bea-cit.co.uk
SUMMARY:Atlantis\, Enterprise and Amber class Snowdome Trip
DESCRIPTION:
URL:https://www.bea-cit.co.uk/event/atlantis-enterprise-and-amber-class-snowdome-trip/
END:VEVENT
BEGIN:VEVENT
DTSTART;VALUE=DATE:20231213
DTEND;VALUE=DATE:20231214
DTSTAMP:20260419T232515
CREATED:20231201T102315Z
LAST-MODIFIED:20231201T102315Z
UID:4102-1702425600-1702511999@www.bea-cit.co.uk
SUMMARY:Ladybirds Blackfriars Pantomime Trip
DESCRIPTION:
URL:https://www.bea-cit.co.uk/event/ladybirds-blackfriars-pantomime-trip/
END:VEVENT
BEGIN:VEVENT
DTSTART;VALUE=DATE:20231211
DTEND;VALUE=DATE:20231212
DTSTAMP:20260419T232515
CREATED:20231201T102214Z
LAST-MODIFIED:20231201T102214Z
UID:4100-1702252800-1702339199@www.bea-cit.co.uk
SUMMARY:Blackfriars Pantomime Trip
DESCRIPTION:
URL:https://www.bea-cit.co.uk/event/blackfriars-pantomime-trip/
END:VEVENT
BEGIN:VEVENT
DTSTART;VALUE=DATE:20231211
DTEND;VALUE=DATE:20231212
DTSTAMP:20260419T232515
CREATED:20231103T144458Z
LAST-MODIFIED:20231103T144458Z
UID:3716-1702252800-1702339199@www.bea-cit.co.uk
SUMMARY:Panto Visit to Blackfriars
DESCRIPTION:
URL:https://www.bea-cit.co.uk/event/panto-visit-to-blackfriars/
END:VEVENT
BEGIN:VEVENT
DTSTART;VALUE=DATE:20231204
DTEND;VALUE=DATE:20231205
DTSTAMP:20260419T232515
CREATED:20231201T102123Z
LAST-MODIFIED:20231201T102123Z
UID:4098-1701648000-1701734399@www.bea-cit.co.uk
SUMMARY:Christmas Decoration Day
DESCRIPTION:
URL:https://www.bea-cit.co.uk/event/christmas-decoration-day-2/
END:VEVENT
BEGIN:VEVENT
DTSTART;TZID=Europe/London:20231203T110000
DTEND;TZID=Europe/London:20231203T150000
DTSTAMP:20260419T232515
CREATED:20231201T102012Z
LAST-MODIFIED:20231201T103140Z
UID:4096-1701601200-1701615600@www.bea-cit.co.uk
SUMMARY:BEA Christmas Fayre
DESCRIPTION:Please come along to out Christmas Fayre on Sunday 3rd December between 11am-3pm
URL:https://www.bea-cit.co.uk/event/bea-christmas-fayre/
END:VEVENT
BEGIN:VEVENT
DTSTART;VALUE=DATE:20231117
DTEND;VALUE=DATE:20231118
DTSTAMP:20260419T232515
CREATED:20231103T144413Z
LAST-MODIFIED:20231103T144413Z
UID:3714-1700179200-1700265599@www.bea-cit.co.uk
SUMMARY:Children In Need Day
DESCRIPTION:
URL:https://www.bea-cit.co.uk/event/children-in-need-day/
END:VEVENT
BEGIN:VEVENT
DTSTART;VALUE=DATE:20231115
DTEND;VALUE=DATE:20231116
DTSTAMP:20260419T232515
CREATED:20231103T144342Z
LAST-MODIFIED:20231103T144342Z
UID:3712-1700006400-1700092799@www.bea-cit.co.uk
SUMMARY:Individual School Photos
DESCRIPTION:
URL:https://www.bea-cit.co.uk/event/individual-school-photos/
END:VEVENT
BEGIN:VEVENT
DTSTART;TZID=Europe/London:20230721T080000
DTEND;TZID=Europe/London:20230721T170000
DTSTAMP:20260419T232515
CREATED:20221104T120204Z
LAST-MODIFIED:20221104T120236Z
UID:2838-1689926400-1689958800@www.bea-cit.co.uk
SUMMARY:End of Term 6
DESCRIPTION:
URL:https://www.bea-cit.co.uk/event/start-of-term-6/
END:VEVENT
BEGIN:VEVENT
DTSTART;TZID=Europe/London:20230605T080000
DTEND;TZID=Europe/London:20230605T170000
DTSTAMP:20260419T232515
CREATED:20221104T121327Z
LAST-MODIFIED:20221104T121547Z
UID:2850-1685952000-1685984400@www.bea-cit.co.uk
SUMMARY:Start of Term 6
DESCRIPTION:
URL:https://www.bea-cit.co.uk/event/start-of-term-6-2/
END:VEVENT
BEGIN:VEVENT
DTSTART;TZID=Europe/London:20230526T080000
DTEND;TZID=Europe/London:20230526T170000
DTSTAMP:20260419T232515
CREATED:20221104T115941Z
LAST-MODIFIED:20221104T115941Z
UID:2836-1685088000-1685120400@www.bea-cit.co.uk
SUMMARY:End of Term 5
DESCRIPTION:
URL:https://www.bea-cit.co.uk/event/end-of-term-5/
END:VEVENT
BEGIN:VEVENT
DTSTART;TZID=Europe/London:20230417T080000
DTEND;TZID=Europe/London:20230417T170000
DTSTAMP:20260419T232515
CREATED:20221104T120626Z
LAST-MODIFIED:20221104T121527Z
UID:2845-1681718400-1681750800@www.bea-cit.co.uk
SUMMARY:Start of Term 5
DESCRIPTION:
URL:https://www.bea-cit.co.uk/event/start-of-term-5/
END:VEVENT
BEGIN:VEVENT
DTSTART;TZID=Europe/London:20230330T080000
DTEND;TZID=Europe/London:20230330T170000
DTSTAMP:20260419T232515
CREATED:20221104T120832Z
LAST-MODIFIED:20221104T121242Z
UID:2847-1680163200-1680195600@www.bea-cit.co.uk
SUMMARY:End of Term 4
DESCRIPTION:
URL:https://www.bea-cit.co.uk/event/end-of-term-4/
END:VEVENT
BEGIN:VEVENT
DTSTART;TZID=Europe/London:20230220T080000
DTEND;TZID=Europe/London:20230220T170000
DTSTAMP:20260419T232515
CREATED:20221104T115411Z
LAST-MODIFIED:20221104T121509Z
UID:2834-1676880000-1676912400@www.bea-cit.co.uk
SUMMARY:Start of Term 4
DESCRIPTION:
URL:https://www.bea-cit.co.uk/event/start-of-term-4/
END:VEVENT
BEGIN:VEVENT
DTSTART;TZID=Europe/London:20230210T080000
DTEND;TZID=Europe/London:20230210T170000
DTSTAMP:20260419T232515
CREATED:20221104T115334Z
LAST-MODIFIED:20221104T121139Z
UID:2832-1676016000-1676048400@www.bea-cit.co.uk
SUMMARY:End of Term 3
DESCRIPTION:
URL:https://www.bea-cit.co.uk/event/end-of-term-3-2/
END:VEVENT
BEGIN:VEVENT
DTSTART;TZID=Europe/London:20230103T080000
DTEND;TZID=Europe/London:20230103T170000
DTSTAMP:20260419T232515
CREATED:20221104T115254Z
LAST-MODIFIED:20221104T121451Z
UID:2830-1672732800-1672765200@www.bea-cit.co.uk
SUMMARY:Start of Term 3
DESCRIPTION:
URL:https://www.bea-cit.co.uk/event/start-of-term-3/
END:VEVENT
BEGIN:VEVENT
DTSTART;TZID=Europe/London:20221216T080000
DTEND;TZID=Europe/London:20221216T170000
DTSTAMP:20260419T232515
CREATED:20221104T114956Z
LAST-MODIFIED:20221104T114956Z
UID:2828-1671177600-1671210000@www.bea-cit.co.uk
SUMMARY:End of Term 2
DESCRIPTION:
URL:https://www.bea-cit.co.uk/event/end-of-term-2-2/
END:VEVENT
BEGIN:VEVENT
DTSTART;TZID=Europe/London:20221214T080000
DTEND;TZID=Europe/London:20221214T170000
DTSTAMP:20260419T232515
CREATED:20221104T121939Z
LAST-MODIFIED:20221104T121939Z
UID:2860-1671004800-1671037200@www.bea-cit.co.uk
SUMMARY:Songs around the Christmas Tree
DESCRIPTION:
URL:https://www.bea-cit.co.uk/event/songs-around-the-christmas-tree/
END:VEVENT
END:VCALENDAR