BEGIN:VCALENDAR
VERSION:2.0
PRODID:-//Boston Endeavour Academy - ECPv6.15.17.1//NONSGML v1.0//EN
CALSCALE:GREGORIAN
METHOD:PUBLISH
X-WR-CALNAME:Boston Endeavour Academy
X-ORIGINAL-URL:https://www.bea-cit.co.uk
X-WR-CALDESC:Events for Boston Endeavour Academy
REFRESH-INTERVAL;VALUE=DURATION:PT1H
X-Robots-Tag:noindex
X-PUBLISHED-TTL:PT1H
BEGIN:VTIMEZONE
TZID:Europe/London
BEGIN:DAYLIGHT
TZOFFSETFROM:+0000
TZOFFSETTO:+0100
TZNAME:BST
DTSTART:20200329T010000
END:DAYLIGHT
BEGIN:STANDARD
TZOFFSETFROM:+0100
TZOFFSETTO:+0000
TZNAME:GMT
DTSTART:20201025T010000
END:STANDARD
BEGIN:DAYLIGHT
TZOFFSETFROM:+0000
TZOFFSETTO:+0100
TZNAME:BST
DTSTART:20210328T010000
END:DAYLIGHT
BEGIN:STANDARD
TZOFFSETFROM:+0100
TZOFFSETTO:+0000
TZNAME:GMT
DTSTART:20211031T010000
END:STANDARD
BEGIN:DAYLIGHT
TZOFFSETFROM:+0000
TZOFFSETTO:+0100
TZNAME:BST
DTSTART:20220327T010000
END:DAYLIGHT
BEGIN:STANDARD
TZOFFSETFROM:+0100
TZOFFSETTO:+0000
TZNAME:GMT
DTSTART:20221030T010000
END:STANDARD
BEGIN:DAYLIGHT
TZOFFSETFROM:+0000
TZOFFSETTO:+0100
TZNAME:BST
DTSTART:20230326T010000
END:DAYLIGHT
BEGIN:STANDARD
TZOFFSETFROM:+0100
TZOFFSETTO:+0000
TZNAME:GMT
DTSTART:20231029T010000
END:STANDARD
END:VTIMEZONE
BEGIN:VEVENT
DTSTART;VALUE=DATE:20220420
DTEND;VALUE=DATE:20220421
DTSTAMP:20260420T045430
CREATED:20210304T105806Z
LAST-MODIFIED:20220210T141544Z
UID:890-1650412800-1650499199@www.bea-cit.co.uk
SUMMARY:Term 5
DESCRIPTION:
URL:https://www.bea-cit.co.uk/event/term-5/
END:VEVENT
BEGIN:VEVENT
DTSTART;VALUE=DATE:20220418
DTEND;VALUE=DATE:20220419
DTSTAMP:20260420T045430
CREATED:20210304T110137Z
LAST-MODIFIED:20210304T110137Z
UID:898-1650240000-1650326399@www.bea-cit.co.uk
SUMMARY:Bank Holiday - Easter Monday
DESCRIPTION:
URL:https://www.bea-cit.co.uk/event/bank-holiday-easter-monday/
END:VEVENT
BEGIN:VEVENT
DTSTART;VALUE=DATE:20220401
DTEND;VALUE=DATE:20220402
DTSTAMP:20260420T045430
CREATED:20210304T105729Z
LAST-MODIFIED:20210304T105729Z
UID:888-1648771200-1648857599@www.bea-cit.co.uk
SUMMARY:End of Term
DESCRIPTION:
URL:https://www.bea-cit.co.uk/event/end-of-term-2/
END:VEVENT
BEGIN:VEVENT
DTSTART;VALUE=DATE:20220221
DTEND;VALUE=DATE:20220222
DTSTAMP:20260420T045430
CREATED:20210304T105655Z
LAST-MODIFIED:20210304T105655Z
UID:886-1645401600-1645487999@www.bea-cit.co.uk
SUMMARY:Term 4
DESCRIPTION:
URL:https://www.bea-cit.co.uk/event/term-4/
END:VEVENT
BEGIN:VEVENT
DTSTART;VALUE=DATE:20220211
DTEND;VALUE=DATE:20220212
DTSTAMP:20260420T045430
CREATED:20210304T105628Z
LAST-MODIFIED:20220210T141425Z
UID:884-1644537600-1644623999@www.bea-cit.co.uk
SUMMARY:End of Term 3
DESCRIPTION:
URL:https://www.bea-cit.co.uk/event/half-term-2/
END:VEVENT
BEGIN:VEVENT
DTSTART;VALUE=DATE:20220105
DTEND;VALUE=DATE:20220106
DTSTAMP:20260420T045430
CREATED:20210304T105559Z
LAST-MODIFIED:20210304T105559Z
UID:882-1641340800-1641427199@www.bea-cit.co.uk
SUMMARY:Term 3
DESCRIPTION:
URL:https://www.bea-cit.co.uk/event/term-3/
END:VEVENT
BEGIN:VEVENT
DTSTART;VALUE=DATE:20211217
DTEND;VALUE=DATE:20211218
DTSTAMP:20260420T045430
CREATED:20210304T105528Z
LAST-MODIFIED:20210304T105528Z
UID:880-1639699200-1639785599@www.bea-cit.co.uk
SUMMARY:End of Term
DESCRIPTION:
URL:https://www.bea-cit.co.uk/event/end-of-term/
END:VEVENT
BEGIN:VEVENT
DTSTART;VALUE=DATE:20211102
DTEND;VALUE=DATE:20211103
DTSTAMP:20260420T045430
CREATED:20210304T105453Z
LAST-MODIFIED:20210304T105453Z
UID:878-1635811200-1635897599@www.bea-cit.co.uk
SUMMARY:Term 2
DESCRIPTION:
URL:https://www.bea-cit.co.uk/event/term-2/
END:VEVENT
BEGIN:VEVENT
DTSTART;VALUE=DATE:20211101
DTEND;VALUE=DATE:20211102
DTSTAMP:20260420T045430
CREATED:20210304T105431Z
LAST-MODIFIED:20210304T105431Z
UID:876-1635724800-1635811199@www.bea-cit.co.uk
SUMMARY:Teacher Training
DESCRIPTION:School Closed
URL:https://www.bea-cit.co.uk/event/teacher-training-2/
END:VEVENT
BEGIN:VEVENT
DTSTART;VALUE=DATE:20211025
DTEND;VALUE=DATE:20211030
DTSTAMP:20260420T045430
CREATED:20210304T105401Z
LAST-MODIFIED:20211018T103849Z
UID:874-1635120000-1635551999@www.bea-cit.co.uk
SUMMARY:Half Term
DESCRIPTION:
URL:https://www.bea-cit.co.uk/event/half-term/
END:VEVENT
BEGIN:VEVENT
DTSTART;VALUE=DATE:20210906
DTEND;VALUE=DATE:20210907
DTSTAMP:20260420T045430
CREATED:20210304T105323Z
LAST-MODIFIED:20210304T105323Z
UID:872-1630886400-1630972799@www.bea-cit.co.uk
SUMMARY:Term 1
DESCRIPTION:
URL:https://www.bea-cit.co.uk/event/term-1/
END:VEVENT
BEGIN:VEVENT
DTSTART;TZID=Europe/London:20210903T090000
DTEND;TZID=Europe/London:20210903T143000
DTSTAMP:20260420T045430
CREATED:20210609T131025Z
LAST-MODIFIED:20210609T131025Z
UID:1656-1630659600-1630679400@www.bea-cit.co.uk
SUMMARY:Parent and Child Visit to School
DESCRIPTION:A chance for new Parents and Children to visit our new school\, more details to follow nearer the date
URL:https://www.bea-cit.co.uk/event/parent-and-child-visit-to-school/
END:VEVENT
BEGIN:VEVENT
DTSTART;VALUE=DATE:20210901
DTEND;VALUE=DATE:20210904
DTSTAMP:20260420T045430
CREATED:20210304T105209Z
LAST-MODIFIED:20210304T105209Z
UID:870-1630454400-1630713599@www.bea-cit.co.uk
SUMMARY:Teacher Training
DESCRIPTION:School Closed
URL:https://www.bea-cit.co.uk/event/teacher-training/
END:VEVENT
BEGIN:VEVENT
DTSTART;TZID=Europe/London:20210610T130000
DTEND;TZID=Europe/London:20210610T170000
DTSTAMP:20260420T045430
CREATED:20210514T121614Z
LAST-MODIFIED:20210514T121614Z
UID:1539-1623330000-1623344400@www.bea-cit.co.uk
SUMMARY:New School Uniform Fair 10th June 2021
DESCRIPTION:We will be holding a new school uniform fair on Thursday 10th June 2021 between 1pm-5pm\, where you will be able to pop into school to see our new school uniform\, try on different sizes and place orders. Current pupils parents will be able to pop along between 1pm-3:30pm and any new parents are welcome between 3:30pm and 5pm. If this is something you would be interested in attending\, then please contact the school office on 01205 363395 to book a slot.
URL:https://www.bea-cit.co.uk/event/new-school-uniform-fair-10th-june-2021/
LOCATION:The John Fielding Special School\, Ashlawn Drive\, Boston\, PE21 9PX\, United Kingdom
END:VEVENT
BEGIN:VEVENT
DTSTART;VALUE=DATE:20210610
DTEND;VALUE=DATE:20210611
DTSTAMP:20260420T045430
CREATED:20210304T110533Z
LAST-MODIFIED:20210401T110708Z
UID:902-1623283200-1623369599@www.bea-cit.co.uk
SUMMARY:BEA School Uniform Shop
DESCRIPTION:At John Fielding School\, Ashlawn Drive\, Boston – a chance for parents to look at the new BEA uniform\, check sizes and order.
URL:https://www.bea-cit.co.uk/event/bea-open-day/
END:VEVENT
END:VCALENDAR