BEGIN:VCALENDAR
VERSION:2.0
PRODID:-//Boston Endeavour Academy - ECPv6.15.17.1//NONSGML v1.0//EN
CALSCALE:GREGORIAN
METHOD:PUBLISH
X-WR-CALNAME:Boston Endeavour Academy
X-ORIGINAL-URL:https://www.bea-cit.co.uk
X-WR-CALDESC:Events for Boston Endeavour Academy
REFRESH-INTERVAL;VALUE=DURATION:PT1H
X-Robots-Tag:noindex
X-PUBLISHED-TTL:PT1H
BEGIN:VTIMEZONE
TZID:Europe/London
BEGIN:DAYLIGHT
TZOFFSETFROM:+0000
TZOFFSETTO:+0100
TZNAME:BST
DTSTART:20200329T010000
END:DAYLIGHT
BEGIN:STANDARD
TZOFFSETFROM:+0100
TZOFFSETTO:+0000
TZNAME:GMT
DTSTART:20201025T010000
END:STANDARD
BEGIN:DAYLIGHT
TZOFFSETFROM:+0000
TZOFFSETTO:+0100
TZNAME:BST
DTSTART:20210328T010000
END:DAYLIGHT
BEGIN:STANDARD
TZOFFSETFROM:+0100
TZOFFSETTO:+0000
TZNAME:GMT
DTSTART:20211031T010000
END:STANDARD
BEGIN:DAYLIGHT
TZOFFSETFROM:+0000
TZOFFSETTO:+0100
TZNAME:BST
DTSTART:20220327T010000
END:DAYLIGHT
BEGIN:STANDARD
TZOFFSETFROM:+0100
TZOFFSETTO:+0000
TZNAME:GMT
DTSTART:20221030T010000
END:STANDARD
END:VTIMEZONE
BEGIN:VEVENT
DTSTART;VALUE=DATE:20210901
DTEND;VALUE=DATE:20210904
DTSTAMP:20260423T123145
CREATED:20210304T105209Z
LAST-MODIFIED:20210304T105209Z
UID:870-1630454400-1630713599@www.bea-cit.co.uk
SUMMARY:Teacher Training
DESCRIPTION:School Closed
URL:https://www.bea-cit.co.uk/event/teacher-training/
END:VEVENT
BEGIN:VEVENT
DTSTART;TZID=Europe/London:20210903T090000
DTEND;TZID=Europe/London:20210903T143000
DTSTAMP:20260423T123145
CREATED:20210609T131025Z
LAST-MODIFIED:20210609T131025Z
UID:1656-1630659600-1630679400@www.bea-cit.co.uk
SUMMARY:Parent and Child Visit to School
DESCRIPTION:A chance for new Parents and Children to visit our new school\, more details to follow nearer the date
URL:https://www.bea-cit.co.uk/event/parent-and-child-visit-to-school/
END:VEVENT
BEGIN:VEVENT
DTSTART;VALUE=DATE:20210906
DTEND;VALUE=DATE:20210907
DTSTAMP:20260423T123145
CREATED:20210304T105323Z
LAST-MODIFIED:20210304T105323Z
UID:872-1630886400-1630972799@www.bea-cit.co.uk
SUMMARY:Term 1
DESCRIPTION:
URL:https://www.bea-cit.co.uk/event/term-1/
END:VEVENT
END:VCALENDAR