BEGIN:VCALENDAR
VERSION:2.0
PRODID:-//Boston Endeavour Academy - ECPv6.15.17.1//NONSGML v1.0//EN
CALSCALE:GREGORIAN
METHOD:PUBLISH
X-ORIGINAL-URL:https://www.bea-cit.co.uk
X-WR-CALDESC:Events for Boston Endeavour Academy
REFRESH-INTERVAL;VALUE=DURATION:PT1H
X-Robots-Tag:noindex
X-PUBLISHED-TTL:PT1H
BEGIN:VTIMEZONE
TZID:Europe/London
BEGIN:DAYLIGHT
TZOFFSETFROM:+0000
TZOFFSETTO:+0100
TZNAME:BST
DTSTART:20230326T010000
END:DAYLIGHT
BEGIN:STANDARD
TZOFFSETFROM:+0100
TZOFFSETTO:+0000
TZNAME:GMT
DTSTART:20231029T010000
END:STANDARD
BEGIN:DAYLIGHT
TZOFFSETFROM:+0000
TZOFFSETTO:+0100
TZNAME:BST
DTSTART:20240331T010000
END:DAYLIGHT
BEGIN:STANDARD
TZOFFSETFROM:+0100
TZOFFSETTO:+0000
TZNAME:GMT
DTSTART:20241027T010000
END:STANDARD
BEGIN:DAYLIGHT
TZOFFSETFROM:+0000
TZOFFSETTO:+0100
TZNAME:BST
DTSTART:20250330T010000
END:DAYLIGHT
BEGIN:STANDARD
TZOFFSETFROM:+0100
TZOFFSETTO:+0000
TZNAME:GMT
DTSTART:20251026T010000
END:STANDARD
END:VTIMEZONE
BEGIN:VEVENT
DTSTART;VALUE=DATE:20240603
DTEND;VALUE=DATE:20240604
DTSTAMP:20260420T134448
CREATED:20231103T145039Z
LAST-MODIFIED:20231103T145039Z
UID:3732-1717372800-1717459199@www.bea-cit.co.uk
SUMMARY:Start of Term 6
DESCRIPTION:
URL:https://www.bea-cit.co.uk/event/start-of-term-6-3/
END:VEVENT
BEGIN:VEVENT
DTSTART;VALUE=DATE:20240611
DTEND;VALUE=DATE:20240612
DTSTAMP:20260420T134448
CREATED:20240605T121526Z
LAST-MODIFIED:20240605T121526Z
UID:4462-1718064000-1718150399@www.bea-cit.co.uk
SUMMARY:School Class Photos
DESCRIPTION:The school photographer will be coming into school on Tuesday 11th June to take class photographs.
URL:https://www.bea-cit.co.uk/event/school-class-photos/
END:VEVENT
BEGIN:VEVENT
DTSTART;VALUE=DATE:20240621
DTEND;VALUE=DATE:20240622
DTSTAMP:20260420T134448
CREATED:20240605T121638Z
LAST-MODIFIED:20240605T121638Z
UID:4464-1718928000-1719014399@www.bea-cit.co.uk
SUMMARY:School Non Uniform Day
DESCRIPTION:Friday 21st June will be a non school uniform day with donations of a tombola prize for the upcoming summer fayre
URL:https://www.bea-cit.co.uk/event/school-non-uniform-day/
END:VEVENT
BEGIN:VEVENT
DTSTART;VALUE=DATE:20240621
DTEND;VALUE=DATE:20240622
DTSTAMP:20260420T134448
CREATED:20240605T143047Z
LAST-MODIFIED:20240605T143047Z
UID:4471-1718928000-1719014399@www.bea-cit.co.uk
SUMMARY:Reading Workshop and Coffee Morning
DESCRIPTION:We are excited to welcome you to our first ever Reading Workshop and Coffee Morning for parents in school. A letter will be sent out with details via ParentMail
URL:https://www.bea-cit.co.uk/event/reading-workshop-and-coffee-morning/
END:VEVENT
BEGIN:VEVENT
DTSTART;VALUE=DATE:20240626
DTEND;VALUE=DATE:20240627
DTSTAMP:20260420T134448
CREATED:20240606T081022Z
LAST-MODIFIED:20240606T081022Z
UID:4473-1719360000-1719446399@www.bea-cit.co.uk
SUMMARY:Sports Day
DESCRIPTION:Upper School Sports Day
URL:https://www.bea-cit.co.uk/event/sports-day/
END:VEVENT
BEGIN:VEVENT
DTSTART;VALUE=DATE:20240627
DTEND;VALUE=DATE:20240628
DTSTAMP:20260420T134448
CREATED:20240605T121754Z
LAST-MODIFIED:20240605T121754Z
UID:4467-1719446400-1719532799@www.bea-cit.co.uk
SUMMARY:Hedgehogs Class Trip to Eureka
DESCRIPTION:This will take place on Thursday 27th June. Parents will receive details of the trip via ParentMail
URL:https://www.bea-cit.co.uk/event/hedgehogs-class-trip-to-eureka/
END:VEVENT
BEGIN:VEVENT
DTSTART;VALUE=DATE:20240627
DTEND;VALUE=DATE:20240628
DTSTAMP:20260420T134448
CREATED:20240606T081106Z
LAST-MODIFIED:20240606T081106Z
UID:4475-1719446400-1719532799@www.bea-cit.co.uk
SUMMARY:Sports Day
DESCRIPTION:Lower School Sports Day
URL:https://www.bea-cit.co.uk/event/sports-day-2/
END:VEVENT
END:VCALENDAR